BEGIN:VCALENDAR
VERSION:2.0
PRODID:spatie/icalendar-generator
DESCRIPTION:Veranstaltungen von Feuerwehr Kolkwitz
X-WR-CALDESC:Veranstaltungen von Feuerwehr Kolkwitz
REFRESH-INTERVAL;VALUE=DURATION:PT1440M
X-PUBLISHED-TTL:PT1440M
BEGIN:VTIMEZONE
TZID:Etc/GMT-2
BEGIN:STANDARD
DTSTART:20170722T160000Z
TZOFFSETFROM:+0200
TZOFFSETTO:+0200
END:STANDARD
END:VTIMEZONE
BEGIN:VTIMEZONE
TZID:UTC
BEGIN:STANDARD
DTSTART:20250727T115605Z
TZOFFSETFROM:+0000
TZOFFSETTO:+0000
END:STANDARD
END:VTIMEZONE
BEGIN:VEVENT
UID:955-217
DTSTAMP:20260423T115605Z
SUMMARY:Altersabteilung
LOCATION:Gerätehaus Bahnhofstraße 115  Kolkwitz  03099
ORGANIZER;CN=FFWKolkwitz:MAILTO:testwehr@sascha-erler.der
DTSTART;TZID=Etc/GMT-2:20180418T160000
DTEND;TZID=Etc/GMT-2:20180418T170000
X-ALT-DESC;FMTTYPE=TEXT/HTML:
CATEGORIES:Alters- und Ehrenabteilung
URL;VALUE=URI:https://www.ff-kolkwitz.de/?mc-events=altersabteilung-24
METHOD:PUBLISH
END:VEVENT
END:VCALENDAR